BEGIN:VCALENDAR
VERSION:2.0
PRODID:-//The Cinematropolis - ECPv6.15.20//NONSGML v1.0//EN
CALSCALE:GREGORIAN
METHOD:PUBLISH
X-WR-CALNAME:The Cinematropolis
X-ORIGINAL-URL:https://www.thecinematropolis.com
X-WR-CALDESC:Events for The Cinematropolis
REFRESH-INTERVAL;VALUE=DURATION:PT1H
X-Robots-Tag:noindex
X-PUBLISHED-TTL:PT1H
BEGIN:VTIMEZONE
TZID:America/Chicago
BEGIN:DAYLIGHT
TZOFFSETFROM:-0600
TZOFFSETTO:-0500
TZNAME:CDT
DTSTART:20160313T080000
END:DAYLIGHT
BEGIN:STANDARD
TZOFFSETFROM:-0500
TZOFFSETTO:-0600
TZNAME:CST
DTSTART:20161106T070000
END:STANDARD
BEGIN:DAYLIGHT
TZOFFSETFROM:-0600
TZOFFSETTO:-0500
TZNAME:CDT
DTSTART:20170312T080000
END:DAYLIGHT
BEGIN:STANDARD
TZOFFSETFROM:-0500
TZOFFSETTO:-0600
TZNAME:CST
DTSTART:20171105T070000
END:STANDARD
BEGIN:DAYLIGHT
TZOFFSETFROM:-0600
TZOFFSETTO:-0500
TZNAME:CDT
DTSTART:20180311T080000
END:DAYLIGHT
BEGIN:STANDARD
TZOFFSETFROM:-0500
TZOFFSETTO:-0600
TZNAME:CST
DTSTART:20181104T070000
END:STANDARD
END:VTIMEZONE
BEGIN:VEVENT
DTSTART;TZID=America/Chicago:20170819T180000
DTEND;TZID=America/Chicago:20170819T220000
DTSTAMP:20260423T010703
CREATED:20170721T022428Z
LAST-MODIFIED:20170802T182413Z
UID:548-1503165600-1503180000@www.thecinematropolis.com
SUMMARY:The Harvesters Oklahoma Premiere
DESCRIPTION:The Harvesters” finally makes its public Oklahoma premiere\, followed by a Q&A with cast and crew. \nThere are two different showings\, one at 6pm and one at 8:30pm. \nTickets on sale now for $8!
URL:https://www.thecinematropolis.com/event/harvesters-oklahoma-premiere/
LOCATION:Old Moore High School Business and Event Center\, 201 N Broadway St\,\, Moore\, OK\, 73160\, United States
CATEGORIES:Community Film Screenings,Oklahoma Premiere
ATTACH;FMTTYPE=image/jpeg:https://www.thecinematropolis.com/wp-content/uploads/2017/07/The-Harvesters.jpg
END:VEVENT
BEGIN:VEVENT
DTSTART;TZID=America/Chicago:20170730T160000
DTEND;TZID=America/Chicago:20170730T220000
DTSTAMP:20260423T010703
CREATED:20170721T003232Z
LAST-MODIFIED:20170721T003317Z
UID:524-1501430400-1501452000@www.thecinematropolis.com
SUMMARY:2017 OKC 48 Hour Film Project: World Premieres
DESCRIPTION:Join the rest of the OKC film community in watching the world premiere of OKC’s 2017 48 Hour Film Project short films! Starting at 4:00pm on Sunday July 30 at the Oklahoma City Farmer’s Market\, the submissions for this year’s contest will each be screened. \nThe 48 Hour Film Project is one of Oklahoma City’s biggest gatherings of filmmakers after deadCenter. This is the perfect place to meet other creative storytellers\, catch an excellent shortfilms or spend the evening with your friends. Tickets are $15 or $20 at the door. \nThis year’s contest is packed with over 30 short films expected to screen between three separate blocks. See the teams below! \n\nGroup A Teams: Sun\, Jul 30\, 2017 @ 4:00pm \n\n\n\n\n\n#teamfilm Ethan Dennis\nAblegate Ricky Pope\nFive Penny Pictures Andrew Appleyard\nFourgen Diana Bittle\nNeon Green Films Yousef Kazemi\nOption D Productions Dan Tibbs\nReel Chaos Robbie Shelburn\nRENT FREE Elizabeth Dickerson\nTeam TCM Tracy Trost\nTwo Sticks and Some Gaff Tape Jami Shine\n\n  \n\n\n\n\n\n\n\n\nGroup B Teams: Sun\, Jul 30\, 2017 @ 6:00pm\n\nCrazy Wolf Films Phillip Borghee\nDreaming Tree Productions Kaiden Hudson\nKeanu Eric Kuritz\nOkie Show Show Brian Gililland\nPerfect Strangers Jesse Bailey II\nSnapback to the future Kyle Baldinger\nTake One Aaron Bushong\nTeam Green (Country) Mark Gullickson\nTeam Phoenix Ben Richardson\nTranscendental Medication Shane Smith\nTulsa Outsiders Jonnie Parnell\n\n  \n\nGroup C: Sun\, Jul 30\, 2017 @ 8:00pm \n\nAtrocity Cait Brasel\nFlatliner Productions Justin Searcy\nFort Hewin Bryan Patterson\nLe Masque Noir Aaron Randall\nMaverick Films Joshua Mindemann\nMeridian Arc Colton Warren\nMichael Scott Paper Company Jennifer Stair\nStar Swamp Mike Ransburg\nThe Covfefes Victoria Michaels\nThe WAFTI Show Aaron Souders\n\n  \nViewer Notes: \nSome films may not be suitable for younger audiences. An on screen warning will alert parents to films that may contain mature content (Extreme Language\, Violence and/or Gore). 
URL:https://www.thecinematropolis.com/event/2017-okc-48-hour-film-project-world-premieres/
LOCATION:The Oklahoma City Farmer’s Market\, 311 S. Klein\, Oklahoma City\, OK\, 73108\, United States
CATEGORIES:Film Festivals,Oklahoma Premiere,World Premieres
ATTACH;FMTTYPE=image/jpeg:https://www.thecinematropolis.com/wp-content/uploads/2017/07/48-Hour.jpg
END:VEVENT
BEGIN:VEVENT
DTSTART;TZID=America/Chicago:20170608T190000
DTEND;TZID=America/Chicago:20170608T210000
DTSTAMP:20260423T010703
CREATED:20170606T000925Z
LAST-MODIFIED:20170606T003324Z
UID:355-1496948400-1496955600@www.thecinematropolis.com
SUMMARY:The Scent of Rain and Lightning Oklahoma Premiere
DESCRIPTION:Writer/Producers Casey Twenter and Jeff Robison return to deadCenter with this suspenseful drama directed by Blake Robbins based on the novel by Nancy Pickard. Twenter and Robinson screened The Jogger at deadCenter in 2013\, then released their hit Rudderless directed by William H. Macy in 2014. \nIn The Scent of Rain and Lightning\, Miaka Monroe (It Follows) plays a young woman who learns that her parents’ killer has been released from jail. She is forced to revisit old wounds while discovering the destructive power of hate and the true cost of family secrets fully revealing themselves. Co-starring Maggie Grace (Lost\, Taken)\, who also produces. \n102 min / OK / Oklahoma Premiere \nDirector: Blake Robbins\nWriters: Casey Twenter\, Jeff Robison\nProducers: Casey Twenter\, Jeff Robison\, Jeff Johnson\, Maggie Grace\, Kevin Waller\nCast: Miaka Monroe\, Maggie Grace\, Mark Webber\, Logan Miller\, Will Patton\, Brad Carter\, Bonnie Bedelia\, Justin Chatwin
URL:https://www.thecinematropolis.com/event/scent-rain-lightning-oklahoma-premiere/
LOCATION:Bricktown Harkins\, Oklahoma City\, OK\, 73104\, United States
CATEGORIES:Film Festivals,Oklahoma Premiere
ATTACH;FMTTYPE=image/jpeg:https://www.thecinematropolis.com/wp-content/uploads/2017/06/The-Scent-of-Rain-and-Lightning.jpg
END:VEVENT
END:VCALENDAR