BEGIN:VCALENDAR
VERSION:2.0
PRODID:-//The Cinematropolis - ECPv6.15.20//NONSGML v1.0//EN
CALSCALE:GREGORIAN
METHOD:PUBLISH
X-ORIGINAL-URL:https://www.thecinematropolis.com
X-WR-CALDESC:Events for The Cinematropolis
REFRESH-INTERVAL;VALUE=DURATION:PT1H
X-Robots-Tag:noindex
X-PUBLISHED-TTL:PT1H
BEGIN:VTIMEZONE
TZID:America/Chicago
BEGIN:DAYLIGHT
TZOFFSETFROM:-0600
TZOFFSETTO:-0500
TZNAME:CDT
DTSTART:20160313T080000
END:DAYLIGHT
BEGIN:STANDARD
TZOFFSETFROM:-0500
TZOFFSETTO:-0600
TZNAME:CST
DTSTART:20161106T070000
END:STANDARD
BEGIN:DAYLIGHT
TZOFFSETFROM:-0600
TZOFFSETTO:-0500
TZNAME:CDT
DTSTART:20170312T080000
END:DAYLIGHT
BEGIN:STANDARD
TZOFFSETFROM:-0500
TZOFFSETTO:-0600
TZNAME:CST
DTSTART:20171105T070000
END:STANDARD
BEGIN:DAYLIGHT
TZOFFSETFROM:-0600
TZOFFSETTO:-0500
TZNAME:CDT
DTSTART:20180311T080000
END:DAYLIGHT
BEGIN:STANDARD
TZOFFSETFROM:-0500
TZOFFSETTO:-0600
TZNAME:CST
DTSTART:20181104T070000
END:STANDARD
END:VTIMEZONE
BEGIN:VEVENT
DTSTART;TZID=America/Chicago:20170905T190000
DTEND;TZID=America/Chicago:20170905T220000
DTSTAMP:20260422T234015
CREATED:20170721T031129Z
LAST-MODIFIED:20170813T165810Z
UID:557-1504638000-1504648800@www.thecinematropolis.com
SUMMARY:The OKC Film Society Presents "Russ Meyer Goes Beyond"
DESCRIPTION:Looking for ways to connect to a burgeoning counter-culture audience\, 20th Century Fox left no stone unturned when looking for material. In 1970\, they hit pay dirt by hiring softcore auteur Russ Meyer whose self-produced films seemed to function as virtual money printers. If he could do that himself\, imagine what he could do with a giant budget and with studio resources! What Meyer and co-screenwriter Roger Ebert came up with was a zany\, breathless cautionary tale on the dark underbelly of Hollywood and show business that lampooned almost everything about the late 60’s and everybody associated with it. From its incendiary rock music blast of an opening to its quadruple homicide-double wedding closer\, the OKC Film Society August selection is a true happening and it freaks us out!
URL:https://www.thecinematropolis.com/event/okc-film-society-presents-russ-meyers-dark-underbelly-hollywood/
LOCATION:The Venue\, 1757 NW 16th st.\, Oklahoma City\, OK\, 73160
CATEGORIES:Community Film Screenings
ATTACH;FMTTYPE=image/jpeg:https://www.thecinematropolis.com/wp-content/uploads/2017/07/Russ-Meyers-Dark-Underbelly-of-Hollywood.jpg
END:VEVENT
BEGIN:VEVENT
DTSTART;TZID=America/Chicago:20170819T180000
DTEND;TZID=America/Chicago:20170819T220000
DTSTAMP:20260422T234015
CREATED:20170721T022428Z
LAST-MODIFIED:20170802T182413Z
UID:548-1503165600-1503180000@www.thecinematropolis.com
SUMMARY:The Harvesters Oklahoma Premiere
DESCRIPTION:The Harvesters” finally makes its public Oklahoma premiere\, followed by a Q&A with cast and crew. \nThere are two different showings\, one at 6pm and one at 8:30pm. \nTickets on sale now for $8!
URL:https://www.thecinematropolis.com/event/harvesters-oklahoma-premiere/
LOCATION:Old Moore High School Business and Event Center\, 201 N Broadway St\,\, Moore\, OK\, 73160\, United States
CATEGORIES:Community Film Screenings,Oklahoma Premiere
ATTACH;FMTTYPE=image/jpeg:https://www.thecinematropolis.com/wp-content/uploads/2017/07/The-Harvesters.jpg
END:VEVENT
BEGIN:VEVENT
DTSTART;TZID=America/Chicago:20170818T200000
DTEND;TZID=America/Chicago:20170818T220000
DTSTAMP:20260422T234015
CREATED:20170815T035657Z
LAST-MODIFIED:20170815T035933Z
UID:616-1503086400-1503093600@www.thecinematropolis.com
SUMMARY:Four Sheets in the Wind Screening
DESCRIPTION:Art goes to the movies with 21c Oklahoma City’s Filmography\, a free monthly film series at 21c Oklahoma City in partnership with deadCenter Film and the OKC Film Society. Filmography takes place on the third Friday of each month. \nIn August\, join us for a screening of “Four Sheets to the Wind\,” an endearing\, comic and eternally universal love and death story set among the modern traditions of the Oklahoma Indian. Cufe Smallhill who finds his usually silent father even quieter than usual…dead from an overdose of medication. Without fanfare or hesitation\, Cufe sinks his father’s body in a pond according to his father’s wishes. Without an autopsy or funeral\, Cufe’s deed creates a crisis in his family as he tries to understand who is father was and what kind of man he himself wants to become. It seems that only one girl really understands Cufe and may hold the key to understanding the bonds holding a family together. This Sundance Film Festival winner is the first feature film by Oklahoman Sterlin Harjo. \nEvent is free and open to the public.
URL:https://www.thecinematropolis.com/event/four-sheets-wind-screening/
LOCATION:21c Museum Hotel\, 900 N Main St\, Oklahoma City\, OK 73106\, OK\, 73106\, United States
CATEGORIES:Community Film Screenings
ATTACH;FMTTYPE=image/jpeg:https://www.thecinematropolis.com/wp-content/uploads/2017/08/Four-Sheets-to-the-Wind.jpg
END:VEVENT
BEGIN:VEVENT
DTSTART;TZID=America/Chicago:20170719T200000
DTEND;TZID=America/Chicago:20170719T230000
DTSTAMP:20260422T234015
CREATED:20170702T185750Z
LAST-MODIFIED:20170702T185750Z
UID:490-1500494400-1500505200@www.thecinematropolis.com
SUMMARY:Sonic Summer Movies: Moonrise Kingdom
DESCRIPTION:The year is 1965\, and the residents of New Penzance\, an island off the coast of New England\, inhabit a community that seems untouched by some of the bad things going on in the rest of the world. Twelve-year-olds Sam (Jared Gilman) and Suzy (Kara Hayward) have fallen in love and decide to run away. But a violent storm is approaching the island\, forcing a group of quirky adults (Bruce Willis\, Edward Norton\, Bill Murray) to mobilize a search party and find the youths before calamity strikes. \nFOOD: Pitchfork in the Park. Lalo’s I Love My Taco Chop & Grill\,\nPLP Food Truck\, Metro Minis OK and Snow S’more Food Truck \nSONIC Summer Movies at Myriad Gardens\, a much-loved summer tradition is back. Each Wednesday\, June 21 – July 26\, on the Great Lawn movies\, activities\, food and lots of fun returns. Thanks to Sonic Drive-In these movies are completely FREE. Come early to get a great seat. Bring a picnic or enjoy food from our line-up of food trucks. Movies start at 9 p.m. with pre-fun starting around 8 p.m. Participants using blankets will sit to one side\, lawn chairs to the other side.
URL:https://www.thecinematropolis.com/event/sonic-summer-movies-moonrise-kingdom/
LOCATION:Myriad Botanical Gardens\, 301 W Reno Ave\, Oklahoma City\, OK\, 73102\, United States
CATEGORIES:Community Film Screenings
ATTACH;FMTTYPE=image/jpeg:https://www.thecinematropolis.com/wp-content/uploads/2017/07/Moonrise-Kingdom.jpg
END:VEVENT
BEGIN:VEVENT
DTSTART;TZID=America/Chicago:20170705T190000
DTEND;TZID=America/Chicago:20170705T220000
DTSTAMP:20260422T234015
CREATED:20170702T184913Z
LAST-MODIFIED:20170702T190108Z
UID:486-1499281200-1499292000@www.thecinematropolis.com
SUMMARY:The Ballad of the Seven Evil Exes
DESCRIPTION:
URL:https://www.thecinematropolis.com/event/ballad-seven-evil-exes/
LOCATION:The Venue\, 1757 NW 16th st.\, Oklahoma City\, OK\, 73160
CATEGORIES:Community Film Screenings
ATTACH;FMTTYPE=image/jpeg:https://www.thecinematropolis.com/wp-content/uploads/2017/07/Scott-Pilgrim-OKC-Film-Society.jpg
END:VEVENT
BEGIN:VEVENT
DTSTART;TZID=America/Chicago:20170606T190000
DTEND;TZID=America/Chicago:20170606T210000
DTSTAMP:20260422T234015
CREATED:20170526T012926Z
LAST-MODIFIED:20170526T013520Z
UID:270-1496775600-1496782800@www.thecinematropolis.com
SUMMARY:OKC Film Society Screening "Cutters vs The World"
DESCRIPTION:Before there were such things as sleeper hits that started their march at Sundance and went all the way to Oscar glory\, there was Peter Yates’s out-of-nowhere hit that worked its magic in cinemas throughout the year of 1979 on nothing but excellent word-of-mouth and a wave of stellar reviews. \nBy the end of its run\, it found itself vying for the Best Picture Oscar against titans such as KRAMER VS. KRAMER\, ALL THAT JAZZ\, and APOCALYPSE NOW\, ending Oscar night with a statue for Steve Tesich’s original screenplay of working-class youths (“Cutters”) whose tensions with the affluent college kids boil over into a climactic ending set amidst the University of Indiana’s grueling Little 500 bicycle race. \nAlong the way\, the film reveals itself not just as a heartwarming underdog story but also a story about the loosening of bonds after high school\, strains between fathers and sons\, and a subtle examination of class structures in Anywhere\, America. With excellent turns by Dennis Christopher\, Dennis Quaid\, Jackie Earle Haley\, Daniel Stern\, Paul Dooley\, and Barbara Barrie (in an Oscar nominated performance)\, we are proud to present one of America’s most beloved coming-of-age films. \nCan you guess the film?
URL:https://www.thecinematropolis.com/event/okc-film-society-screening-cutters-vs-world/
LOCATION:The Venue\, 1757 NW 16th st.\, Oklahoma City\, OK\, 73160
CATEGORIES:Community Film Screenings
ATTACH;FMTTYPE=image/jpeg:https://www.thecinematropolis.com/wp-content/uploads/2017/05/Cutters-vs-The-World-Film-Club.jpg
ORGANIZER;CN="OKC Film Society":MAILTO:okcfilmsociety@gmail.com
END:VEVENT
END:VCALENDAR